BEGIN:VCALENDAR
VERSION:2.0
PRODID:-//Salisbury City Hall - ECPv6.15.8//NONSGML v1.0//EN
CALSCALE:GREGORIAN
METHOD:PUBLISH
X-WR-CALNAME:Salisbury City Hall
X-ORIGINAL-URL:https://www.salisburycityhall.co.uk
X-WR-CALDESC:Events for Salisbury City Hall
REFRESH-INTERVAL;VALUE=DURATION:PT1H
X-Robots-Tag:noindex
X-PUBLISHED-TTL:PT1H
BEGIN:VTIMEZONE
TZID:Europe/London
BEGIN:DAYLIGHT
TZOFFSETFROM:+0000
TZOFFSETTO:+0100
TZNAME:BST
DTSTART:20250330T010000
END:DAYLIGHT
BEGIN:STANDARD
TZOFFSETFROM:+0100
TZOFFSETTO:+0000
TZNAME:GMT
DTSTART:20251026T010000
END:STANDARD
BEGIN:DAYLIGHT
TZOFFSETFROM:+0000
TZOFFSETTO:+0100
TZNAME:BST
DTSTART:20260329T010000
END:DAYLIGHT
BEGIN:STANDARD
TZOFFSETFROM:+0100
TZOFFSETTO:+0000
TZNAME:GMT
DTSTART:20261025T010000
END:STANDARD
BEGIN:DAYLIGHT
TZOFFSETFROM:+0000
TZOFFSETTO:+0100
TZNAME:BST
DTSTART:20270328T010000
END:DAYLIGHT
BEGIN:STANDARD
TZOFFSETFROM:+0100
TZOFFSETTO:+0000
TZNAME:GMT
DTSTART:20271031T010000
END:STANDARD
END:VTIMEZONE
BEGIN:VEVENT
DTSTART;TZID=Europe/London:20261206T193000
DTEND;TZID=Europe/London:20261206T220000
DTSTAMP:20260419T152304
CREATED:20260116T123320Z
LAST-MODIFIED:20260130T150821Z
UID:10000198-1796585400-1796594400@www.salisburycityhall.co.uk
SUMMARY:Abba Merry Christmas
DESCRIPTION:Get ready to say “Mamma Mia!” this festive season as ABBA-MERRY Christmas brings you the ultimate festive party!  \n\n\n\nIt’s time to “Take a Chance” on a night filled with all your favourite ABBA hits\, with a few holiday classics thrown in\, plus plenty of “Dancing Queen” moments too. With a fabulous ABBA tribute and a sensational live band\, this is your chance to deck the halls with sparkling lights and celebrate Christmas like never before.  \n\n\n\nWhether you’re a die-hard ABBA fan or just love a good festive sing-along\, your friends will be saying “Gimme! Gimme! Gimme!” a ticket to this fantastic show! Feel the “Knowing Me\, Knowing Yule” vibes as you step into a winter wonderland of music\, dancing\, and non-stop fun. The live band will have you rockin around the Christmas tree to iconic tunes like “Waterloo”\, “Thank You For The Music” and “S.O.S.”\, while adding a festive twist to the magic. It’s going to be a party full of Christmas cheer\,sparkling lights\, and all the ABBA hits you know and love. \n\n\n\nSo\, grab your Santa hats\, shine up those “Chiquitita” bells\, and get ready for a Christmas party that’s pure “Money\, Money\, Money” value! \n\n\n\n \n\n\n\n*All under 18s must be accompanied by a parent or guardian on a maximum 1:4 ratio.
URL:https://www.salisburycityhall.co.uk/event/abba-merry-christmas-2/
CATEGORIES:Christmas,Live Performance,Tribute
ATTACH;FMTTYPE=image/png:https://www.salisburycityhall.co.uk/wp-content/uploads/2026/01/Salisbury-500x500-500-x-500-px-2026-01-16T123020.850.png
END:VEVENT
BEGIN:VEVENT
DTSTART;TZID=Europe/London:20261209T193000
DTEND;TZID=Europe/London:20261209T220000
DTSTAMP:20260419T152304
CREATED:20260116T124016Z
LAST-MODIFIED:20260116T124046Z
UID:10000197-1796844600-1796853600@www.salisburycityhall.co.uk
SUMMARY:Jim's Christmas Cracker
DESCRIPTION:Grab your baubles and stuff your stockings because Jim Davidson OBE is back and naughtier than ever!Get ready for an evening of uproarious\, adults-only comedy that’s as inappropriate as a mistletoe mishap at the office Christmas party. In this brand-new Festive show for 2025\, Jim invites you to join him in unwrapping the funniest Christmas present you’ll get this year—a night full of laughs\, cheeky one-liners\, and the kind of humour that’s spicier than your aunt’s eggnog. \n\n\n\n \n\n\n\nMeet & Greet:  \n\n\n\nA limited number of lucky audience members will have the chance to meet comedy legend Jim Davidson in person as part of an exclusive Meet and Greet experience\, available for just £50 and will include a ticket to see the show.  \n\n\n\nThis intimate pre-show event will take place in the auditorium at either 6:00pm and will last approximately 30 minutes. Guests will be welcomed with a complimentary drink on arrival offering the perfect way to kick off the evening. Loyal fans will have the opportunity to enjoy a personal photo opportunity with Jim\, creating a lasting memory\, as well as receive a signed photograph as a keepsake of the occasion. \n\n\n\nWhether you’ve followed his decades-long career or simply love a great laugh\, this is your chance to spend quality time with one of the UK’s most iconic and outspoken comedians in an exclusive\, relaxed setting—all before the show even begins. Spaces are limited\, so don’t miss out on what promises to be a truly memorable experience! \n\n\n\n \n\n\n\n*All under 18s must be accompanied by a parent or guardian on a maximum 1:4 ratio.
URL:https://www.salisburycityhall.co.uk/event/jims-christmas-cracker-2/
CATEGORIES:Christmas,Comedy
ATTACH;FMTTYPE=image/png:https://www.salisburycityhall.co.uk/wp-content/uploads/2026/01/Salisbury-500x500-500-x-500-px-2026-01-16T114931.977.png
END:VEVENT
BEGIN:VEVENT
DTSTART;TZID=Europe/London:20261217T193000
DTEND;TZID=Europe/London:20261217T220000
DTSTAMP:20260419T152304
CREATED:20260123T100000Z
LAST-MODIFIED:20260123T101559Z
UID:10000201-1797535800-1797544800@www.salisburycityhall.co.uk
SUMMARY:Step Into Christmas
DESCRIPTION:Back for 2026\,bigger and better\, your Christmas starts here! \n\n\n\nGet ready to Step Into Christmas once again for the most magical\, feel-good show of the year! After a sensational run\, we’re back–bigger\, brighter\, and more festive than ever before. This spectacular Christmas concert is the ultimate way to kickstart your festive celebrations\, guaranteed to fill your heart with holiday cheer and have you singing along from start to finish. \n\n\n\nPacked with all your favourite Christmas classics\, the show brings the spirit of the season to life with dazzling performances\, stunning festive visuals\, and a sensational live band. From heart warming ballads to upbeat festive anthems\, it’s the perfect playlist for your Christmas celebrations. \n\n\n\nWhether you’re starting a new festive tradition or keeping the magic alive\, Step Into Christmas is the ultimate feel-good Christmas spectacular. \n\n\n\n \n\n\n\n*All under 18s must be accompanied by a parent or guardian on a maximum 1:4 ratio.
URL:https://www.salisburycityhall.co.uk/event/step-into-christmas/
CATEGORIES:Christmas
ATTACH;FMTTYPE=image/png:https://www.salisburycityhall.co.uk/wp-content/uploads/2026/01/Salisbury-500x500-500-x-500-px-2026-01-21T130908.821.png
END:VEVENT
END:VCALENDAR